Workbook

Sheet 入力
A1: 令和8年度 医療的ケア教員講習会／フォローアップ講習会 受講料計算（事業所賛助会員 複数名一括）
A3: No | B3: 氏名（任意） | C3: 講習会の選択 | D3: 区分（受講料の適用区分） | E3: 同時入会するか | F3: 同時入会の入会区分 | G3: 適用区分（自動） | H3: ① 教員受講料 | I3: ② フォロー受講料 | J3: ③ 両方割引（-） | K3: ④ 入会金 | L3: ⑤ 年会費 | M3: お支払い合計
B4: 例 A | C4: 両方 | D4: 事業所賛助会員 | E4: しない | G4: =IF(E4="する", IF(F4<>"", F4, D4), D4) -> 事業所賛助会員 | H4: =IF(OR(C4="医療的ケア教員講習会のみ", C4="両方"), IF(G4="一般",16500, IF(G4="会員",8800, IF(G4="事業所賛助会員",12500, IF(G4="個人賛助会員",10000,0)))), 0) -> 12500 | I4: =IF(OR(C4="フォローアップ講習会のみ", C4="両方"), IF(G4="一般",6600, IF(G4="会員",4400, IF(G4="事業所賛助会員",5500, IF(G4="個人賛助会員",4400,0)))), 0) -> 5500 | J4: =IF(C4="両方", IF(G4="一般",600, IF(G4="会員",400, IF(G4="事業所賛助会員",500, IF(G4="個人賛助会員",400,0)))), 0) -> 500 | K4: =IF(E4="する", IF(G4="会員",3000, 0), 0) -> 0 | L4: =IF(E4="する", IF(G4="会員",10500, IF(G4="個人賛助会員",6000, IF(G4="事業所賛助会員",12000,0))), 0) -> 0 | M4: =H4+I4-J4+K4+L4 -> 17500
B5: 例 B | C5: 医療的ケア教員講習会のみ | D5: 事業所賛助会員 | E5: しない | G5: =IF(E5="する", IF(F5<>"", F5, D5), D5) -> 事業所賛助会員 | H5: =IF(OR(C5="医療的ケア教員講習会のみ", C5="両方"), IF(G5="一般",16500, IF(G5="会員",8800, IF(G5="事業所賛助会員",12500, IF(G5="個人賛助会員",10000,0)))), 0) -> 12500 | I5: =IF(OR(C5="フォローアップ講習会のみ", C5="両方"), IF(G5="一般",6600, IF(G5="会員",4400, IF(G5="事業所賛助会員",5500, IF(G5="個人賛助会員",4400,0)))), 0) -> 0 | J5: =IF(C5="両方", IF(G5="一般",600, IF(G5="会員",400, IF(G5="事業所賛助会員",500, IF(G5="個人賛助会員",400,0)))), 0) -> 0 | K5: =IF(E5="する", IF(G5="会員",3000, 0), 0) -> 0 | L5: =IF(E5="する", IF(G5="会員",10500, IF(G5="個人賛助会員",6000, IF(G5="事業所賛助会員",12000,0))), 0) -> 0 | M5: =H5+I5-J5+K5+L5 -> 12500
B6: 例 C | C6: フォローアップ講習会のみ | D6: 事業所賛助会員 | E6: しない | G6: =IF(E6="する", IF(F6<>"", F6, D6), D6) -> 事業所賛助会員 | H6: =IF(OR(C6="医療的ケア教員講習会のみ", C6="両方"), IF(G6="一般",16500, IF(G6="会員",8800, IF(G6="事業所賛助会員",12500, IF(G6="個人賛助会員",10000,0)))), 0) -> 0 | I6: =IF(OR(C6="フォローアップ講習会のみ", C6="両方"), IF(G6="一般",6600, IF(G6="会員",4400, IF(G6="事業所賛助会員",5500, IF(G6="個人賛助会員",4400,0)))), 0) -> 5500 | J6: =IF(C6="両方", IF(G6="一般",600, IF(G6="会員",400, IF(G6="事業所賛助会員",500, IF(G6="個人賛助会員",400,0)))), 0) -> 0 | K6: =IF(E6="する", IF(G6="会員",3000, 0), 0) -> 0 | L6: =IF(E6="する", IF(G6="会員",10500, IF(G6="個人賛助会員",6000, IF(G6="事業所賛助会員",12000,0))), 0) -> 0 | M6: =H6+I6-J6+K6+L6 -> 5500
B7: 例 D | C7: フォローアップ講習会のみ | D7: 一般 | E7: する | F7: 事業所賛助会員 | G7: =IF(E7="する", IF(F7<>"", F7, D7), D7) -> 事業所賛助会員 | H7: =IF(OR(C7="医療的ケア教員講習会のみ", C7="両方"), IF(G7="一般",16500, IF(G7="会員",8800, IF(G7="事業所賛助会員",12500, IF(G7="個人賛助会員",10000,0)))), 0) -> 0 | I7: =IF(OR(C7="フォローアップ講習会のみ", C7="両方"), IF(G7="一般",6600, IF(G7="会員",4400, IF(G7="事業所賛助会員",5500, IF(G7="個人賛助会員",4400,0)))), 0) -> 5500 | J7: =IF(C7="両方", IF(G7="一般",600, IF(G7="会員",400, IF(G7="事業所賛助会員",500, IF(G7="個人賛助会員",400,0)))), 0) -> 0 | K7: =IF(E7="する", IF(G7="会員",3000, 0), 0) -> 0 | L7: =IF(E7="する", IF(G7="会員",10500, IF(G7="個人賛助会員",6000, IF(G7="事業所賛助会員",12000,0))), 0) -> 12000 | M7: =H7+I7-J7+K7+L7 -> 17500
B8: 例 E | C8: 医療的ケア教員講習会のみ | D8: 一般 | E8: する | F8: 事業所賛助会員 | G8: =IF(E8="する", IF(F8<>"", F8, D8), D8) -> 事業所賛助会員 | H8: =IF(OR(C8="医療的ケア教員講習会のみ", C8="両方"), IF(G8="一般",16500, IF(G8="会員",8800, IF(G8="事業所賛助会員",12500, IF(G8="個人賛助会員",10000,0)))), 0) -> 12500 | I8: =IF(OR(C8="フォローアップ講習会のみ", C8="両方"), IF(G8="一般",6600, IF(G8="会員",4400, IF(G8="事業所賛助会員",5500, IF(G8="個人賛助会員",4400,0)))), 0) -> 0 | J8: =IF(C8="両方", IF(G8="一般",600, IF(G8="会員",400, IF(G8="事業所賛助会員",500, IF(G8="個人賛助会員",400,0)))), 0) -> 0 | K8: =IF(E8="する", IF(G8="会員",3000, 0), 0) -> 0 | L8: =IF(E8="する", IF(G8="会員",10500, IF(G8="個人賛助会員",6000, IF(G8="事業所賛助会員",12000,0))), 0) -> 12000 | M8: =H8+I8-J8+K8+L8 -> 24500
B9: 例 F | C9: 両方 | D9: 一般 | E9: する | F9: 事業所賛助会員 | G9: =IF(E9="する", IF(F9<>"", F9, D9), D9) -> 事業所賛助会員 | H9: =IF(OR(C9="医療的ケア教員講習会のみ", C9="両方"), IF(G9="一般",16500, IF(G9="会員",8800, IF(G9="事業所賛助会員",12500, IF(G9="個人賛助会員",10000,0)))), 0) -> 12500 | I9: =IF(OR(C9="フォローアップ講習会のみ", C9="両方"), IF(G9="一般",6600, IF(G9="会員",4400, IF(G9="事業所賛助会員",5500, IF(G9="個人賛助会員",4400,0)))), 0) -> 5500 | J9: =IF(C9="両方", IF(G9="一般",600, IF(G9="会員",400, IF(G9="事業所賛助会員",500, IF(G9="個人賛助会員",400,0)))), 0) -> 500 | K9: =IF(E9="する", IF(G9="会員",3000, 0), 0) -> 0 | L9: =IF(E9="する", IF(G9="会員",10500, IF(G9="個人賛助会員",6000, IF(G9="事業所賛助会員",12000,0))), 0) -> 12000 | M9: =H9+I9-J9+K9+L9 -> 29500
C10: 上記は計算入力例です。下の行から入力して、ご使用ください。
C11: 同時入会をする場合：最初の方のみ「する」、二人目以降の方は「しない」を選択して下さい。
C12: 一般（非会員）・会員の区分は、最初の方は「一般」を、二人目以降は「事業所賛助会員」を選択下さい。
B13: ↓お名前を入力 | C13: ↓講習の種類を選択ください | D13: ↓現在、一般（非会員）ですか、会員ですか | E13: ↓今回、同時入会されますか | F13: ↓入会される区分は
A14: 1 | C14: 両方 | D14: 一般 | E14: する | F14: 事業所賛助会員 | G14: =IF(E14="する", IF(F14<>"", F14, D14), D14) -> 事業所賛助会員 | H14: =IF(OR(C14="医療的ケア教員講習会のみ", C14="両方"), IF(G14="一般",16500, IF(G14="会員",8800, IF(G14="事業所賛助会員",12500, IF(G14="個人賛助会員",10000,0)))), 0) -> 12500 | I14: =IF(OR(C14="フォローアップ講習会のみ", C14="両方"), IF(G14="一般",6600, IF(G14="会員",4400, IF(G14="事業所賛助会員",5500, IF(G14="個人賛助会員",4400,0)))), 0) -> 5500 | J14: =IF(C14="両方", IF(G14="一般",600, IF(G14="会員",400, IF(G14="事業所賛助会員",500, IF(G14="個人賛助会員",400,0)))), 0) -> 500 | K14: =IF(E14="する", IF(G14="会員",3000, 0), 0) -> 0 | L14: =IF(E14="する", IF(G14="会員",10500, IF(G14="個人賛助会員",6000, IF(G14="事業所賛助会員",12000,0))), 0) -> 12000 | M14: =H14+I14-J14+K14+L14 -> 29500
A15: 2 | C15: 両方 | D15: 事業所賛助会員 | E15: しない | F15: 事業所賛助会員 | G15: =IF(E15="する", IF(F15<>"", F15, D15), D15) -> 事業所賛助会員 | H15: =IF(OR(C15="医療的ケア教員講習会のみ", C15="両方"), IF(G15="一般",16500, IF(G15="会員",8800, IF(G15="事業所賛助会員",12500, IF(G15="個人賛助会員",10000,0)))), 0) -> 12500 | I15: =IF(OR(C15="フォローアップ講習会のみ", C15="両方"), IF(G15="一般",6600, IF(G15="会員",4400, IF(G15="事業所賛助会員",5500, IF(G15="個人賛助会員",4400,0)))), 0) -> 5500 | J15: =IF(C15="両方", IF(G15="一般",600, IF(G15="会員",400, IF(G15="事業所賛助会員",500, IF(G15="個人賛助会員",400,0)))), 0) -> 500 | K15: =IF(E15="する", IF(G15="会員",3000, 0), 0) -> 0 | L15: =IF(E15="する", IF(G15="会員",10500, IF(G15="個人賛助会員",6000, IF(G15="事業所賛助会員",12000,0))), 0) -> 0 | M15: =H15+I15-J15+K15+L15 -> 17500
A16: 3 | C16: 両方 | D16: 事業所賛助会員 | E16: しない | F16: 事業所賛助会員 | G16: =IF(E16="する", IF(F16<>"", F16, D16), D16) -> 事業所賛助会員 | H16: =IF(OR(C16="医療的ケア教員講習会のみ", C16="両方"), IF(G16="一般",16500, IF(G16="会員",8800, IF(G16="事業所賛助会員",12500, IF(G16="個人賛助会員",10000,0)))), 0) -> 12500 | I16: =IF(OR(C16="フォローアップ講習会のみ", C16="両方"), IF(G16="一般",6600, IF(G16="会員",4400, IF(G16="事業所賛助会員",5500, IF(G16="個人賛助会員",4400,0)))), 0) -> 5500 | J16: =IF(C16="両方", IF(G16="一般",600, IF(G16="会員",400, IF(G16="事業所賛助会員",500, IF(G16="個人賛助会員",400,0)))), 0) -> 500 | K16: =IF(E16="する", IF(G16="会員",3000, 0), 0) -> 0 | L16: =IF(E16="する", IF(G16="会員",10500, IF(G16="個人賛助会員",6000, IF(G16="事業所賛助会員",12000,0))), 0) -> 0 | M16: =H16+I16-J16+K16+L16 -> 17500
A17: 4 | G17: =IF(E17="する", IF(F17<>"", F17, D17), D17) -> 0 | H17: =IF(OR(C17="医療的ケア教員講習会のみ", C17="両方"), IF(G17="一般",16500, IF(G17="会員",8800, IF(G17="事業所賛助会員",12500, IF(G17="個人賛助会員",10000,0)))), 0) -> 0 | I17: =IF(OR(C17="フォローアップ講習会のみ", C17="両方"), IF(G17="一般",6600, IF(G17="会員",4400, IF(G17="事業所賛助会員",5500, IF(G17="個人賛助会員",4400,0)))), 0) -> 0 | J17: =IF(C17="両方", IF(G17="一般",600, IF(G17="会員",400, IF(G17="事業所賛助会員",500, IF(G17="個人賛助会員",400,0)))), 0) -> 0 | K17: =IF(E17="する", IF(G17="会員",3000, 0), 0) -> 0 | L17: =IF(E17="する", IF(G17="会員",10500, IF(G17="個人賛助会員",6000, IF(G17="事業所賛助会員",12000,0))), 0) -> 0 | M17: =H17+I17-J17+K17+L17 -> 0
A18: 5 | G18: =IF(E18="する", IF(F18<>"", F18, D18), D18) -> 0 | H18: =IF(OR(C18="医療的ケア教員講習会のみ", C18="両方"), IF(G18="一般",16500, IF(G18="会員",8800, IF(G18="事業所賛助会員",12500, IF(G18="個人賛助会員",10000,0)))), 0) -> 0 | I18: =IF(OR(C18="フォローアップ講習会のみ", C18="両方"), IF(G18="一般",6600, IF(G18="会員",4400, IF(G18="事業所賛助会員",5500, IF(G18="個人賛助会員",4400,0)))), 0) -> 0 | J18: =IF(C18="両方", IF(G18="一般",600, IF(G18="会員",400, IF(G18="事業所賛助会員",500, IF(G18="個人賛助会員",400,0)))), 0) -> 0 | K18: =IF(E18="する", IF(G18="会員",3000, 0), 0) -> 0 | L18: =IF(E18="する", IF(G18="会員",10500, IF(G18="個人賛助会員",6000, IF(G18="事業所賛助会員",12000,0))), 0) -> 0 | M18: =H18+I18-J18+K18+L18 -> 0
A19: 6 | G19: =IF(E19="する", IF(F19<>"", F19, D19), D19) -> 0 | H19: =IF(OR(C19="医療的ケア教員講習会のみ", C19="両方"), IF(G19="一般",16500, IF(G19="会員",8800, IF(G19="事業所賛助会員",12500, IF(G19="個人賛助会員",10000,0)))), 0) -> 0 | I19: =IF(OR(C19="フォローアップ講習会のみ", C19="両方"), IF(G19="一般",6600, IF(G19="会員",4400, IF(G19="事業所賛助会員",5500, IF(G19="個人賛助会員",4400,0)))), 0) -> 0 | J19: =IF(C19="両方", IF(G19="一般",600, IF(G19="会員",400, IF(G19="事業所賛助会員",500, IF(G19="個人賛助会員",400,0)))), 0) -> 0 | K19: =IF(E19="する", IF(G19="会員",3000, 0), 0) -> 0 | L19: =IF(E19="する", IF(G19="会員",10500, IF(G19="個人賛助会員",6000, IF(G19="事業所賛助会員",12000,0))), 0) -> 0 | M19: =H19+I19-J19+K19+L19 -> 0
A20: 7 | G20: =IF(E20="する", IF(F20<>"", F20, D20), D20) -> 0 | H20: =IF(OR(C20="医療的ケア教員講習会のみ", C20="両方"), IF(G20="一般",16500, IF(G20="会員",8800, IF(G20="事業所賛助会員",12500, IF(G20="個人賛助会員",10000,0)))), 0) -> 0 | I20: =IF(OR(C20="フォローアップ講習会のみ", C20="両方"), IF(G20="一般",6600, IF(G20="会員",4400, IF(G20="事業所賛助会員",5500, IF(G20="個人賛助会員",4400,0)))), 0) -> 0 | J20: =IF(C20="両方", IF(G20="一般",600, IF(G20="会員",400, IF(G20="事業所賛助会員",500, IF(G20="個人賛助会員",400,0)))), 0) -> 0 | K20: =IF(E20="する", IF(G20="会員",3000, 0), 0) -> 0 | L20: =IF(E20="する", IF(G20="会員",10500, IF(G20="個人賛助会員",6000, IF(G20="事業所賛助会員",12000,0))), 0) -> 0 | M20: =H20+I20-J20+K20+L20 -> 0
A21: 8 | G21: =IF(E21="する", IF(F21<>"", F21, D21), D21) -> 0 | H21: =IF(OR(C21="医療的ケア教員講習会のみ", C21="両方"), IF(G21="一般",16500, IF(G21="会員",8800, IF(G21="事業所賛助会員",12500, IF(G21="個人賛助会員",10000,0)))), 0) -> 0 | I21: =IF(OR(C21="フォローアップ講習会のみ", C21="両方"), IF(G21="一般",6600, IF(G21="会員",4400, IF(G21="事業所賛助会員",5500, IF(G21="個人賛助会員",4400,0)))), 0) -> 0 | J21: =IF(C21="両方", IF(G21="一般",600, IF(G21="会員",400, IF(G21="事業所賛助会員",500, IF(G21="個人賛助会員",400,0)))), 0) -> 0 | K21: =IF(E21="する", IF(G21="会員",3000, 0), 0) -> 0 | L21: =IF(E21="する", IF(G21="会員",10500, IF(G21="個人賛助会員",6000, IF(G21="事業所賛助会員",12000,0))), 0) -> 0 | M21: =H21+I21-J21+K21+L21 -> 0
A22: 9 | G22: =IF(E22="する", IF(F22<>"", F22, D22), D22) -> 0 | H22: =IF(OR(C22="医療的ケア教員講習会のみ", C22="両方"), IF(G22="一般",16500, IF(G22="会員",8800, IF(G22="事業所賛助会員",12500, IF(G22="個人賛助会員",10000,0)))), 0) -> 0 | I22: =IF(OR(C22="フォローアップ講習会のみ", C22="両方"), IF(G22="一般",6600, IF(G22="会員",4400, IF(G22="事業所賛助会員",5500, IF(G22="個人賛助会員",4400,0)))), 0) -> 0 | J22: =IF(C22="両方", IF(G22="一般",600, IF(G22="会員",400, IF(G22="事業所賛助会員",500, IF(G22="個人賛助会員",400,0)))), 0) -> 0 | K22: =IF(E22="する", IF(G22="会員",3000, 0), 0) -> 0 | L22: =IF(E22="する", IF(G22="会員",10500, IF(G22="個人賛助会員",6000, IF(G22="事業所賛助会員",12000,0))), 0) -> 0 | M22: =H22+I22-J22+K22+L22 -> 0
A23: 10 | G23: =IF(E23="する", IF(F23<>"", F23, D23), D23) -> 0 | H23: =IF(OR(C23="医療的ケア教員講習会のみ", C23="両方"), IF(G23="一般",16500, IF(G23="会員",8800, IF(G23="事業所賛助会員",12500, IF(G23="個人賛助会員",10000,0)))), 0) -> 0 | I23: =IF(OR(C23="フォローアップ講習会のみ", C23="両方"), IF(G23="一般",6600, IF(G23="会員",4400, IF(G23="事業所賛助会員",5500, IF(G23="個人賛助会員",4400,0)))), 0) -> 0 | J23: =IF(C23="両方", IF(G23="一般",600, IF(G23="会員",400, IF(G23="事業所賛助会員",500, IF(G23="個人賛助会員",400,0)))), 0) -> 0 | K23: =IF(E23="する", IF(G23="会員",3000, 0), 0) -> 0 | L23: =IF(E23="する", IF(G23="会員",10500, IF(G23="個人賛助会員",6000, IF(G23="事業所賛助会員",12000,0))), 0) -> 0 | M23: =H23+I23-J23+K23+L23 -> 0
G24: =IF(E24="する", IF(F24<>"", F24, D24), D24) -> 0 | H24: =IF(OR(C24="医療的ケア教員講習会のみ", C24="両方"), IF(G24="一般",16500, IF(G24="会員",8800, IF(G24="事業所賛助会員",12500, IF(G24="個人賛助会員",10000,0)))), 0) -> 0 | I24: =IF(OR(C24="フォローアップ講習会のみ", C24="両方"), IF(G24="一般",6600, IF(G24="会員",4400, IF(G24="事業所賛助会員",5500, IF(G24="個人賛助会員",4400,0)))), 0) -> 0 | J24: =IF(C24="両方", IF(G24="一般",600, IF(G24="会員",400, IF(G24="事業所賛助会員",500, IF(G24="個人賛助会員",400,0)))), 0) -> 0 | K24: =IF(E24="する", IF(G24="会員",3000, 0), 0) -> 0 | L24: =IF(E24="する", IF(G24="会員",10500, IF(G24="個人賛助会員",6000, IF(G24="事業所賛助会員",12000,0))), 0) -> 0 | M24: =H24+I24-J24+K24+L24 -> 0
G25: 【合計】 | H25: =SUM(H14:H24) -> 37500 | I25: =SUM(I14:I24) -> 16500 | J25: =SUM(J14:J24) -> 1500 | K25: =SUM(K14:K24) -> 0 | L25: =SUM(L14:L24) -> 12000 | M25: =SUM(M14:M24) -> 64500

Sheet 集計
A1: 集計（参考）
A3: 総合計 | B3: =入力!M25 -> 64500 | D3: 講習会別 小計（件数/金額）
D4: 医療的ケアのみ | E4: =COUNTIF(入力!C14:C24,"医療的ケア教員講習会のみ") -> 0 | F4: =SUMIF(入力!C14:C24,"医療的ケア教員講習会のみ",入力!M14:M24) -> 0
A5: 内訳合計 | D5: フォローアップのみ | E5: =COUNTIF(入力!C14:C24,"フォローアップ講習会のみ") -> 0 | F5: =SUMIF(入力!C14:C24,"フォローアップ講習会のみ",入力!M14:M24) -> 0
A6: ① 教員受講料 | B6: =入力!H25 -> 37500 | D6: 両方 | E6: =COUNTIF(入力!C14:C24,"両方") -> 3 | F6: =SUMIF(入力!C14:C24,"両方",入力!M14:M24) -> 64500
A7: ② フォロー受講料 | B7: =入力!I25 -> 16500
A8: ③ 両方割引 | B8: =入力!J25 -> 1500
A9: ④ 入会金 | B9: =入力!K25 -> 0
A10: ⑤ 年会費 | B10: =入力!L25 -> 12000
